

BEGIN:VCALENDAR
VERSION:2.0
PRODID:-//Chautauqua Leadership Network - ECPv6.15.17.1//NONSGML v1.0//EN
CALSCALE:GREGORIAN
METHOD:PUBLISH
X-WR-CALNAME:Chautauqua Leadership Network
X-ORIGINAL-URL:https://chautauqualeadership.org
X-WR-CALDESC:Events for Chautauqua Leadership Network
REFRESH-INTERVAL;VALUE=DURATION:PT1H
X-Robots-Tag:noindex
X-PUBLISHED-TTL:PT1H
BEGIN:VTIMEZONE
TZID:UTC
BEGIN:STANDARD
TZOFFSETFROM:+0000
TZOFFSETTO:+0000
TZNAME:UTC
DTSTART:20220101T000000
END:STANDARD
END:VTIMEZONE
BEGIN:VEVENT
DTSTART;TZID=UTC:20230412T130000
DTEND;TZID=UTC:20230412T170000
DTSTAMP:20260423T000436
CREATED:20230211T170903Z
LAST-MODIFIED:20230224T024209Z
UID:10000009-1681304400-1681318800@chautauqualeadership.org
SUMMARY:Class of 2023 - Case Studies In Leadership
DESCRIPTION:Leaders make decisions and\, fair or not\, they are often most remembered for the bad ones. During this session\, students will analyze and discuss complex\, real-world scenarios that lack straightforward answers\, allowing them to explore the enduring impact of leadership decisions. The case studies examined will cover diverse ethical issues\, including artificial intelligence\, immigration\, and team mascots\, offering valuable insights into the complexities of leadership. Students should come prepared to take a stance on challenging issues. By comprehending the consequences of decisions\, refining critical thinking skills\, and improving decision-making abilities\, students will gain valuable insights into the demands organizations often place upon leaders. \nCore Competencies: Ethics/Integrity and Leading Change \n  \n \nPresented by Craig Garaas-Johnson \nCraig Garaas-Johnson\, CLN ’20\, is a versatile professional with a professional career spanning nearly 20 years. He holds an MFA in poetry and pursued doctoral work in educational research focused on advanced statistical analysis of at-risk student populations. His love of language and analysis has led him to wear many hats including as an English professor\, biofuels journalist\, a business development professional for a utility\, and a marketer and communicator at both the University of North Dakota and University at Buffalo. Throughout his career\, he has always sought new opportunities to collaborate within and outside his field. Success is defined as getting resources to the people around him who will make a positive impact on the world. Craig earned his MFA in Creative Writing from Minnesota State University Moorhead\, and a BA in Composition from SUNY Potsdam.
URL:https://chautauqualeadership.org/event/class-of-2023-case-studies-in-leadership/
LOCATION:Jamestown Community College - North County Training Center\, 10807\, Bennett State Rd.\, 14048\, United States
CATEGORIES:Class Year Schedule
END:VEVENT
END:VCALENDAR