

BEGIN:VCALENDAR
VERSION:2.0
PRODID:-//Chautauqua Leadership Network - ECPv6.15.17.1//NONSGML v1.0//EN
CALSCALE:GREGORIAN
METHOD:PUBLISH
X-WR-CALNAME:Chautauqua Leadership Network
X-ORIGINAL-URL:https://chautauqualeadership.org
X-WR-CALDESC:Events for Chautauqua Leadership Network
REFRESH-INTERVAL;VALUE=DURATION:PT1H
X-Robots-Tag:noindex
X-PUBLISHED-TTL:PT1H
BEGIN:VTIMEZONE
TZID:America/New_York
BEGIN:DAYLIGHT
TZOFFSETFROM:-0500
TZOFFSETTO:-0400
TZNAME:EDT
DTSTART:20230312T070000
END:DAYLIGHT
BEGIN:STANDARD
TZOFFSETFROM:-0400
TZOFFSETTO:-0500
TZNAME:EST
DTSTART:20231105T060000
END:STANDARD
BEGIN:DAYLIGHT
TZOFFSETFROM:-0500
TZOFFSETTO:-0400
TZNAME:EDT
DTSTART:20240310T070000
END:DAYLIGHT
BEGIN:STANDARD
TZOFFSETFROM:-0400
TZOFFSETTO:-0500
TZNAME:EST
DTSTART:20241103T060000
END:STANDARD
BEGIN:DAYLIGHT
TZOFFSETFROM:-0500
TZOFFSETTO:-0400
TZNAME:EDT
DTSTART:20250309T070000
END:DAYLIGHT
BEGIN:STANDARD
TZOFFSETFROM:-0400
TZOFFSETTO:-0500
TZNAME:EST
DTSTART:20251102T060000
END:STANDARD
BEGIN:DAYLIGHT
TZOFFSETFROM:-0500
TZOFFSETTO:-0400
TZNAME:EDT
DTSTART:20260308T070000
END:DAYLIGHT
BEGIN:STANDARD
TZOFFSETFROM:-0400
TZOFFSETTO:-0500
TZNAME:EST
DTSTART:20261101T060000
END:STANDARD
END:VTIMEZONE
BEGIN:VEVENT
DTSTART;TZID=America/New_York:20241009T090000
DTEND;TZID=America/New_York:20241009T120000
DTSTAMP:20260422T184908
CREATED:20231224T120005Z
LAST-MODIFIED:20231224T120005Z
UID:10000039-1728464400-1728475200@chautauqualeadership.org
SUMMARY:Class of 2024 - Creative Leadership
DESCRIPTION:Location: TBD \nCreativity is widely regarded as one of the most essential\, useful\, and sought-after skills for leaders and for employees\, in general. Creative leadership involves being open to new ideas\, being flexible in thought and action\, taking risks\, finding playfulness in innovation\, and working through uncertainty while moving forward with confidence. This session will focus on learning ways to build creative mindsets\, skill sets\, and tool sets through an assessment model\, individual exercises\, and group activities. A bonus benefit will be having fun and working together in a climate of support\, celebration\, and connection! \n \nFascilitated by Jane Fischer \nJane is a Creative Change Facilitator\, offering training\, facilitation\, and coaching for personal and organizational development. Her passion is to help individuals\, teams\, and organizations generate brighter ideas\, embrace creative and collaborative solutions\, and to do so through positive mindsets. \nJane has over 25 years of experience in organizing and delivering educational and professional development workshops\, training curriculum\, process facilitation\, and group experience activities. Much of this experience covers her two decades in health education leadership\, with 15 of these years as a peer health education administrator and trainer at the college level. \nJane holds a Master of Arts in Health Arts and Sciences from Goddard College\, and a Graduate Certificate of Advanced Study in Creativity and Change Leadership from the International Center for Studies in Creativity at SUNY Buffalo State. She also serves as a Creativity Trainer for the Creative Education Foundation. \nJane also builds her approach around the principles and practices of improvisation. She has been a professional improv comedy performer for over 20 years\, currently with ComedySportz Buffalo. She was a co-founder and performer with The Unexpected Guests Improv Comedy Group in Jamestown from 2002-2017. She has lived in Chautauqua County for most of her life\, and currently resides in Fredonia with her husband and a very spoiled cat.
URL:https://chautauqualeadership.org/event/class-of-2024-creative-leadership/
LOCATION:NY
CATEGORIES:Class Year Schedule
END:VEVENT
BEGIN:VEVENT
DTSTART;TZID=America/New_York:20241014T160000
DTEND;TZID=America/New_York:20241014T173000
DTSTAMP:20260422T184908
CREATED:20231224T122852Z
LAST-MODIFIED:20231224T122852Z
UID:10000046-1728921600-1728927000@chautauqualeadership.org
SUMMARY:CLN Board Meeting
DESCRIPTION:
URL:https://chautauqualeadership.org/event/cln-board-meeting-5/
LOCATION:NY
END:VEVENT
BEGIN:VEVENT
DTSTART;TZID=America/New_York:20241112T130000
DTEND;TZID=America/New_York:20241112T160000
DTSTAMP:20260422T184908
CREATED:20231224T120120Z
LAST-MODIFIED:20231224T120251Z
UID:10000040-1731416400-1731427200@chautauqualeadership.org
SUMMARY:Class of 2024 - Capstone & Graduation
DESCRIPTION:Location: TBD by Class of 2024
URL:https://chautauqualeadership.org/event/class-of-2024-capstone-graduation/
LOCATION:NY
CATEGORIES:Class Year Schedule
END:VEVENT
BEGIN:VEVENT
DTSTART;TZID=America/New_York:20241209T113000
DTEND;TZID=America/New_York:20241209T130000
DTSTAMP:20260422T184908
CREATED:20231224T120229Z
LAST-MODIFIED:20240228T235230Z
UID:10000041-1733743800-1733749200@chautauqualeadership.org
SUMMARY:Class of 2024 & CLN Members - CLN Annual Meeting
DESCRIPTION:Location: TBD
URL:https://chautauqualeadership.org/event/class-of-2024-cln-members-cln-annual-meeting/
LOCATION:NY
CATEGORIES:Class Year Schedule
END:VEVENT
BEGIN:VEVENT
DTSTART;TZID=America/New_York:20250207T190000
DTEND;TZID=America/New_York:20250207T210000
DTSTAMP:20260422T184908
CREATED:20241217T161108Z
LAST-MODIFIED:20250107T151020Z
UID:10000049-1738954800-1738962000@chautauqualeadership.org
SUMMARY:CLN Welcomes the Class of 2025 and Class Reunion
DESCRIPTION:🎉 Join Us for the CLN Welcome Event and Class Reunion! 🎉 \nWe’re excited to welcome the Chautauqua Leadership Network Class of 2025! Alumni and members\, come connect with the new class\, reconnect with your own CLN cohort\, celebrate\, and help us kick off this new class’s journey. \n📅 When: Friday\, February 7\n📍 Where: Chautauqua Harbor Hotel\, Celoron\, NY\n⏰ Time: 7:00 PM\n💵 Cost: $10 and $15 for a couple (includes appetizers\, prizes\, giveaways\, and cash bar available) \nLet’s celebrate leadership\, community\, and connection—don’t miss it! \nThe CLN Retreat Group Rate at the Chautauqua Harbor Hotel is available for CLN Alumni and Members on Friday\, February 7th for an overnight stay. Inquire about the special rate and secure a reservation directly with the hotel. \nPay Here ——–> (Copy and Paste Link) https://chautauqualeadership.org/product/open-amount/ \n\n\n                \n                        \n                            RSVP\n                            Please RSVP by February 5th so we may provide proper accommodations. \n                        \n                        FirstLastPhoneEmailGuest Attending With You?\n								\n								Yes\n							\n								\n								No\n							Any dietary accomodations? Please specify.\n          \n            \n            \n            \n            \n            \n            \n            \n            \n            \n            \n            \n            \n            \n        \n                        Δ
URL:https://chautauqualeadership.org/event/cln-welcomes-the-class-of-2025/
LOCATION:Chautauqua Harbor Hotel\, 10 DUNHAM AVENUE\, CELORON\, NY\, 14720\, United States
END:VEVENT
END:VCALENDAR