

BEGIN:VCALENDAR
VERSION:2.0
PRODID:-//Chautauqua Leadership Network - ECPv6.15.17.1//NONSGML v1.0//EN
CALSCALE:GREGORIAN
METHOD:PUBLISH
X-WR-CALNAME:Chautauqua Leadership Network
X-ORIGINAL-URL:https://chautauqualeadership.org
X-WR-CALDESC:Events for Chautauqua Leadership Network
REFRESH-INTERVAL;VALUE=DURATION:PT1H
X-Robots-Tag:noindex
X-PUBLISHED-TTL:PT1H
BEGIN:VTIMEZONE
TZID:UTC
BEGIN:STANDARD
TZOFFSETFROM:+0000
TZOFFSETTO:+0000
TZNAME:UTC
DTSTART:20210101T000000
END:STANDARD
END:VTIMEZONE
BEGIN:VTIMEZONE
TZID:America/New_York
BEGIN:DAYLIGHT
TZOFFSETFROM:-0500
TZOFFSETTO:-0400
TZNAME:EDT
DTSTART:20220313T070000
END:DAYLIGHT
BEGIN:STANDARD
TZOFFSETFROM:-0400
TZOFFSETTO:-0500
TZNAME:EST
DTSTART:20221106T060000
END:STANDARD
BEGIN:DAYLIGHT
TZOFFSETFROM:-0500
TZOFFSETTO:-0400
TZNAME:EDT
DTSTART:20230312T070000
END:DAYLIGHT
BEGIN:STANDARD
TZOFFSETFROM:-0400
TZOFFSETTO:-0500
TZNAME:EST
DTSTART:20231105T060000
END:STANDARD
BEGIN:DAYLIGHT
TZOFFSETFROM:-0500
TZOFFSETTO:-0400
TZNAME:EDT
DTSTART:20240310T070000
END:DAYLIGHT
BEGIN:STANDARD
TZOFFSETFROM:-0400
TZOFFSETTO:-0500
TZNAME:EST
DTSTART:20241103T060000
END:STANDARD
END:VTIMEZONE
BEGIN:VEVENT
DTSTART;TZID=UTC:20230315T180000
DTEND;TZID=UTC:20230315T200000
DTSTAMP:20260422T185242
CREATED:20230211T223602Z
LAST-MODIFIED:20230211T223602Z
UID:10000017-1678903200-1678910400@chautauqualeadership.org
SUMMARY:Branding & Marketing Committee Meeting
DESCRIPTION:North County – Location TBD \nInterested in volunteering? Contact: \nBrian LeBarron\, Chair\nbrianlebarron1976@gmail.com
URL:https://chautauqualeadership.org/event/branding-marketing-committee-meeting/
LOCATION:NY
END:VEVENT
BEGIN:VEVENT
DTSTART;TZID=UTC:20230311T120000
DTEND;TZID=UTC:20230311T140000
DTSTAMP:20260422T185242
CREATED:20230211T171124Z
LAST-MODIFIED:20230522T143437Z
UID:10000007-1678536000-1678543200@chautauqualeadership.org
SUMMARY:Class of 2023 Welcome Reception
DESCRIPTION:RSVP Below. CLN members are welcome to meet the Class of 2023 participants.\nShare your CLN experience & inspire our future over wood fired pizza & cold freshments. \n \n 
URL:https://chautauqualeadership.org/event/class-of-2023-welcome-reception/
LOCATION:Grace & Abe's\, 14 N Portage St\, Westfield\, NY\, 14787\, United States
CATEGORIES:Class Year Schedule
END:VEVENT
BEGIN:VEVENT
DTSTART;TZID=America/New_York:20230217T073000
DTEND;TZID=America/New_York:20230218T210000
DTSTAMP:20260422T185242
CREATED:20230211T171234Z
LAST-MODIFIED:20230211T222445Z
UID:10000006-1676619000-1676754000@chautauqualeadership.org
SUMMARY:CLN Orientation Retreat with Kirk Young and Kyle Reyes
DESCRIPTION:The Class of 2023 gets underway at the highly anticipated Retreat experience. \nFriday/Saturday – February 17-18\n7:30 am – 9:00 pm\nChautauqua Harbor Hotel
URL:https://chautauqualeadership.org/event/cln-orientation-retreat-with-kirk-young-and-kyle-reyes/
LOCATION:Chautauqua Harbor Hotel\, 10 DUNHAM AVENUE\, CELORON\, NY\, 14720\, United States
CATEGORIES:Class Year Schedule
END:VEVENT
BEGIN:VEVENT
DTSTART;TZID=UTC:20230213T160000
DTEND;TZID=UTC:20230213T173000
DTSTAMP:20260422T185242
CREATED:20230211T224201Z
LAST-MODIFIED:20230211T224201Z
UID:10000022-1676304000-1676309400@chautauqualeadership.org
SUMMARY:Board of Directors Meeting
DESCRIPTION:
URL:https://chautauqualeadership.org/event/board-of-directors-meeting/
LOCATION:NY
END:VEVENT
BEGIN:VEVENT
DTSTART;TZID=UTC:20221212T173000
DTEND;TZID=UTC:20221212T213000
DTSTAMP:20260422T185242
CREATED:20221102T054514Z
LAST-MODIFIED:20221118T062816Z
UID:10000004-1670866200-1670880600@chautauqualeadership.org
SUMMARY:CLN Annual Meeting – Please Join Us!
DESCRIPTION:
URL:https://chautauqualeadership.org/event/cln-annual-meeting-please-join-us/
LOCATION:Webb's Captain's Table Restaurant\, 115 W Lake Rd\, Mayville\, NY\, 14757\, United States
ATTACH;FMTTYPE=image/png:https://chautauqualeadership.org/wp-content/uploads/2022/10/Logo-Footer-@2x.png
END:VEVENT
BEGIN:VEVENT
DTSTART;TZID=UTC:20221119T130000
DTEND;TZID=UTC:20221119T150000
DTSTAMP:20260422T185242
CREATED:20221011T054531Z
LAST-MODIFIED:20221109T020423Z
UID:10000005-1668862800-1668870000@chautauqualeadership.org
SUMMARY:CLN Alumni to Host ‘Meet the Author’ Event
DESCRIPTION:Hello Everyone! \nCLN alumni\, Trenton Lutes\, from the Class of 2015\, recently published his first fiction novel and he would like to extend a personal invitation to all CLN members to join him on Saturday\, November 19th from 1-3pm at the James Prendergast Library in Jamestown for a ‘Meet the Author’ event.  During the two hours he will read from his young adult\, dystopian fiction novel\, In-Spire: Book One of The Terra-Healers\, answer questions\, and sign copies. \nFor more information on the event and the book\, please check out the below flyer. \n \n  \nAlso\, please feel free to help him get the word out by forwarding this email\, or even printing a copy of the flyer to hang at your place of business. \nPDF Flyer: Meet the Author Prendergast \nThanks! \nKatie \n  \nKatie Young \nCLN Coordinator \n435-671-0676 \nPO Box 298 \nLakewood NY 14750
URL:https://chautauqualeadership.org/event/cln-alumni-to-host-meet-the-author-event/
LOCATION:James Prendergast Library\, 509 Cherry St\, Jamestown\, 14701\, United States
END:VEVENT
END:VCALENDAR