

BEGIN:VCALENDAR
VERSION:2.0
PRODID:-//Chautauqua Leadership Network - ECPv6.15.17.1//NONSGML v1.0//EN
CALSCALE:GREGORIAN
METHOD:PUBLISH
X-WR-CALNAME:Chautauqua Leadership Network
X-ORIGINAL-URL:https://chautauqualeadership.org
X-WR-CALDESC:Events for Chautauqua Leadership Network
REFRESH-INTERVAL;VALUE=DURATION:PT1H
X-Robots-Tag:noindex
X-PUBLISHED-TTL:PT1H
BEGIN:VTIMEZONE
TZID:UTC
BEGIN:STANDARD
TZOFFSETFROM:+0000
TZOFFSETTO:+0000
TZNAME:UTC
DTSTART:20220101T000000
END:STANDARD
END:VTIMEZONE
BEGIN:VEVENT
DTSTART;TZID=UTC:20230311T120000
DTEND;TZID=UTC:20230311T140000
DTSTAMP:20260423T000350
CREATED:20230211T171124Z
LAST-MODIFIED:20230522T143437Z
UID:10000007-1678536000-1678543200@chautauqualeadership.org
SUMMARY:Class of 2023 Welcome Reception
DESCRIPTION:RSVP Below. CLN members are welcome to meet the Class of 2023 participants.\nShare your CLN experience & inspire our future over wood fired pizza & cold freshments. \n \n 
URL:https://chautauqualeadership.org/event/class-of-2023-welcome-reception/
LOCATION:Grace & Abe's\, 14 N Portage St\, Westfield\, NY\, 14787\, United States
CATEGORIES:Class Year Schedule
END:VEVENT
BEGIN:VEVENT
DTSTART;TZID=UTC:20230315T180000
DTEND;TZID=UTC:20230315T200000
DTSTAMP:20260423T000350
CREATED:20230211T223602Z
LAST-MODIFIED:20230211T223602Z
UID:10000017-1678903200-1678910400@chautauqualeadership.org
SUMMARY:Branding & Marketing Committee Meeting
DESCRIPTION:North County – Location TBD \nInterested in volunteering? Contact: \nBrian LeBarron\, Chair\nbrianlebarron1976@gmail.com
URL:https://chautauqualeadership.org/event/branding-marketing-committee-meeting/
LOCATION:NY
END:VEVENT
BEGIN:VEVENT
DTSTART;VALUE=DATE:20230316
DTEND;VALUE=DATE:20230317
DTSTAMP:20260423T000350
CREATED:20230211T171033Z
LAST-MODIFIED:20230312T174737Z
UID:10000008-1678924800-1679011199@chautauqualeadership.org
SUMMARY:Class of 2023 - Leadership Scavenger Hunt
DESCRIPTION:Success has a code. \nThe story of comedy reveals it to us. \nA Professional Development Experience At the National Comedy Center \nPresented by\nCINDY ARONSON TRAINING \n  \nTHE COMEDY CODE (TM) \nComedy is a powerful teacher.\nIt ignites the power of laughter\, which renews\, connects\, and engages us.\nIt fuels the power of learning as we deep-dive into the story of comedy – its greatest minds and legendary performances – to discover lessons of collaboration and teamwork; vision and innovation;\nboldness and perseverance …and so much more.\nIt inspires the power of love. A love for one’s craft and profession\, their ensemble and team\, their audience & community\, and their own unique style used to perform at their very best. \nThe Comedy-Code (TM): Laugh • Learn • Love\nA simple yet powerful combination that delivers outstanding performance in comedy — and in your profession too.\nSuccess has a code. The story of comedy reveals it to us.\nCome and experience The Comedy-Code (TM) at the National Comedy Center. \nA day that will refresh\, renew\, and refocus the strength and success of your talented team. \n  \nCindy Aronson Bio \nCindy Aronson loves her job and is on a mission to inspire others to love theirs too. As the owner and principal of Cindy Aronson Training\, she develops and leads programs that ignite the power of people\, fueling workplace engagement\, pride\, leadership impact\, and personal and professional success. \nFor over 25 years\, she has had the honor and privilege to be a partner in talent development with a variety of outstanding colleges and universities\, businesses and organizations and thousands of talented professionals. Her ‘Developing Leadership Excellence’ program has been attended by hundreds of business leaders and chosen by educational institutions and numerous companies/organizations to strengthen the talent on their teams. \nCindy holds a degree in communication from the State University of New York College at Fredonia. She is a member of the National Speakers Association\, the Association for Talent Development\, and serves on the boards of the National Comedy Center and the Northwest Arena. She resides in beautiful Bemus Point\, New York.
URL:https://chautauqualeadership.org/event/class-of-2023-leadership-scavenger-hunt/
LOCATION:National Comedy Center\, 202 W 2nd St\, Jamestown\, NY\, 14701\, United States
CATEGORIES:Class Year Schedule
END:VEVENT
END:VCALENDAR