

BEGIN:VCALENDAR
VERSION:2.0
PRODID:-//Chautauqua Leadership Network - ECPv6.15.17.1//NONSGML v1.0//EN
CALSCALE:GREGORIAN
METHOD:PUBLISH
X-ORIGINAL-URL:https://chautauqualeadership.org
X-WR-CALDESC:Events for Chautauqua Leadership Network
REFRESH-INTERVAL;VALUE=DURATION:PT1H
X-Robots-Tag:noindex
X-PUBLISHED-TTL:PT1H
BEGIN:VTIMEZONE
TZID:America/New_York
BEGIN:DAYLIGHT
TZOFFSETFROM:-0500
TZOFFSETTO:-0400
TZNAME:EDT
DTSTART:20220313T070000
END:DAYLIGHT
BEGIN:STANDARD
TZOFFSETFROM:-0400
TZOFFSETTO:-0500
TZNAME:EST
DTSTART:20221106T060000
END:STANDARD
BEGIN:DAYLIGHT
TZOFFSETFROM:-0500
TZOFFSETTO:-0400
TZNAME:EDT
DTSTART:20230312T070000
END:DAYLIGHT
BEGIN:STANDARD
TZOFFSETFROM:-0400
TZOFFSETTO:-0500
TZNAME:EST
DTSTART:20231105T060000
END:STANDARD
BEGIN:DAYLIGHT
TZOFFSETFROM:-0500
TZOFFSETTO:-0400
TZNAME:EDT
DTSTART:20240310T070000
END:DAYLIGHT
BEGIN:STANDARD
TZOFFSETFROM:-0400
TZOFFSETTO:-0500
TZNAME:EST
DTSTART:20241103T060000
END:STANDARD
END:VTIMEZONE
BEGIN:VTIMEZONE
TZID:UTC
BEGIN:STANDARD
TZOFFSETFROM:+0000
TZOFFSETTO:+0000
TZNAME:UTC
DTSTART:20220101T000000
END:STANDARD
END:VTIMEZONE
BEGIN:VEVENT
DTSTART;TZID=America/New_York:20230608T000000
DTEND;TZID=America/New_York:20230608T235900
DTSTAMP:20260422T184621
CREATED:20230508T201144Z
LAST-MODIFIED:20230526T121838Z
UID:10000028-1686182400-1686268740@chautauqualeadership.org
SUMMARY:Give Big CHQ
DESCRIPTION:Happening Here: \n\n\n\nwww.givebigchq.org/organizations/chautauqua-leadership-network\n\n\n\n\n\nThe Chautauqua Leadership Network is celebrating our 30 year anniversary this year and we are overjoyed at the impact we’ve had on our workforce and community-at-large over the last several decades. \n\n\n\nDid you know that this year was the largest class applicant pool we’ve ever had and that a wait list has already begun for next year?! \n\n\n\nThe leadership formation and peer camaraderie that the CLN class experience provides is in higher demand than ever\, and as an organization we are poised and ready to step up to the challenge. \n\n\n\nIn celebration of our 30-year anniversary\, we’re asking past alumni and community members to contribute to our next class of leaders during the upcoming Give Big CHQ event. We know that you know just how important the experience we provide is to a leader’s life + career trajectory. Plus the potential for ripple impact throughout the ecosystem of businesses\, schools\, and nonprofits in our community. \n\n\n\nA donation to CLN is a donation to the well-being of our community.  \n\n\n\nWe stand proud at how far we’ve come together in 30 years and believe that the best is still yet to come\, together. \n\n\n\n\n\nMatching Sponsor Challenge\n\n\n\nCalling all businesses. Stand out as a supporter of CLN and help leverage our fundraising efforts by becoming a Matching Business Sponsor during Give Big CHQ. Request letter & detail below: \n  \n\n\n\n \nCLN-Give-Big-Sponsor-FormDownload
URL:https://chautauqualeadership.org/event/give-big-chq/
LOCATION:NY
ATTACH;FMTTYPE=image/png:https://chautauqualeadership.org/wp-content/uploads/2023/05/official-e1684775316483.png
END:VEVENT
BEGIN:VEVENT
DTSTART;TZID=UTC:20230612T160000
DTEND;TZID=UTC:20230612T173000
DTSTAMP:20260422T184621
CREATED:20230211T224321Z
LAST-MODIFIED:20230211T224321Z
UID:10000024-1686585600-1686591000@chautauqualeadership.org
SUMMARY:Board of Directors Meeting
DESCRIPTION:
URL:https://chautauqualeadership.org/event/board-of-directors-meeting-3/
LOCATION:NY
END:VEVENT
BEGIN:VEVENT
DTSTART;TZID=UTC:20230614T130000
DTEND;TZID=UTC:20230614T170000
DTSTAMP:20260422T184621
CREATED:20230211T170622Z
LAST-MODIFIED:20230525T213312Z
UID:10000011-1686747600-1686762000@chautauqualeadership.org
SUMMARY:Class of 2023 - Introduction To Leaders In Action
DESCRIPTION:Leaders in Action (LIA) is an opportunity for the Class to work together in teams\, expand their network\, increase their knowledge\, collaborate to find innovative solutions\, and focus on developing the following four skills:\n✔ Presentation and Facilitation Skills\n✔ Organization Skills\n✔ Giving and Receiving Feedback\n✔ Creativity \nIn alignment with the CLN mission\, they will be responsible to work together as a team to plan and deliver a\npresentation about one of the “diamonds” in our own Chautauqua County. \nGuest speakers to inspire the class session include: \n\nMarla Connelly from NYS Parks.\nDee Dippel from Loud Performance\nBryce & Rachael Steffen from Bemus Point Golf Club & Tap House.\nAndrew Nixon from the Chautauqua County Visitors Bureau.
URL:https://chautauqualeadership.org/event/class-of-2023-introduction-to-leaders-in-action/
LOCATION:Long Point State Park Pavilion\, 4459 NY-430\, Bemus Point\, NY\, 14712\, United States
CATEGORIES:Class Year Schedule
END:VEVENT
END:VCALENDAR