

BEGIN:VCALENDAR
VERSION:2.0
PRODID:-//Chautauqua Leadership Network - ECPv6.15.17.1//NONSGML v1.0//EN
CALSCALE:GREGORIAN
METHOD:PUBLISH
X-WR-CALNAME:Chautauqua Leadership Network
X-ORIGINAL-URL:https://chautauqualeadership.org
X-WR-CALDESC:Events for Chautauqua Leadership Network
REFRESH-INTERVAL;VALUE=DURATION:PT1H
X-Robots-Tag:noindex
X-PUBLISHED-TTL:PT1H
BEGIN:VTIMEZONE
TZID:America/New_York
BEGIN:DAYLIGHT
TZOFFSETFROM:-0500
TZOFFSETTO:-0400
TZNAME:EDT
DTSTART:20220313T070000
END:DAYLIGHT
BEGIN:STANDARD
TZOFFSETFROM:-0400
TZOFFSETTO:-0500
TZNAME:EST
DTSTART:20221106T060000
END:STANDARD
BEGIN:DAYLIGHT
TZOFFSETFROM:-0500
TZOFFSETTO:-0400
TZNAME:EDT
DTSTART:20230312T070000
END:DAYLIGHT
BEGIN:STANDARD
TZOFFSETFROM:-0400
TZOFFSETTO:-0500
TZNAME:EST
DTSTART:20231105T060000
END:STANDARD
BEGIN:DAYLIGHT
TZOFFSETFROM:-0500
TZOFFSETTO:-0400
TZNAME:EDT
DTSTART:20240310T070000
END:DAYLIGHT
BEGIN:STANDARD
TZOFFSETFROM:-0400
TZOFFSETTO:-0500
TZNAME:EST
DTSTART:20241103T060000
END:STANDARD
END:VTIMEZONE
BEGIN:VTIMEZONE
TZID:UTC
BEGIN:STANDARD
TZOFFSETFROM:+0000
TZOFFSETTO:+0000
TZNAME:UTC
DTSTART:20220101T000000
END:STANDARD
END:VTIMEZONE
BEGIN:VEVENT
DTSTART;TZID=America/New_York:20230803T090000
DTEND;TZID=America/New_York:20230803T143000
DTSTAMP:20260422T150516
CREATED:20230508T200030Z
LAST-MODIFIED:20230626T141304Z
UID:10000027-1691053200-1691073000@chautauqualeadership.org
SUMMARY:2023 Southern Tier Leadership Summit
DESCRIPTION:We are thrilled to announce that this year’s Southern Tier Leadership Summit keynote speaker will be Dr. Kirk Young\, VP of Student Affairs at JCC! Kirk’s areas of expertise include transformational leadership\, appreciative inquiry\, servant-leadership\, leadership and creativity\, and strengths-based leadership. \nThe summit is set for 9 a.m.-2:30 p.m. on Aug. 3 at the Doyle Conference Center at St. Bonaventure University. Join us as we explore this year’s theme\, “Creating an Engaged and Dynamic Team\,” via a keynote address\, panel discussion and breakout sessions. The cost is $60 for current cohorts and alumni of LC\, LA and CLN and $70 for the public. Online registration is open at https://shop.oleanny.com/collections/event-tickets (online service fee applies) \nHosted by Leadership Cattaraugus\, Leadership Allegany & Chautauqua Leadership Network. \n 
URL:https://chautauqualeadership.org/event/2023-southern-tier-leadership-summit/
LOCATION:St. Bonaventure University - Doyle Events Center\, 3261 W State St. Doyle Hall\, St Bonaventure\, NY\, 14778\, United States
ATTACH;FMTTYPE=image/jpeg:https://chautauqualeadership.org/wp-content/uploads/2023/05/2023-leadership-summit-logo.jpg
END:VEVENT
BEGIN:VEVENT
DTSTART;TZID=UTC:20230814T173000
DTEND;TZID=UTC:20230824T183000
DTSTAMP:20260422T150516
CREATED:20230211T224354Z
LAST-MODIFIED:20230710T201920Z
UID:10000025-1692034200-1692901800@chautauqualeadership.org
SUMMARY:Board of Directors Meeting
DESCRIPTION:
URL:https://chautauqualeadership.org/event/board-of-directors-meeting-4/
LOCATION:Dunkirk Memorial Park\, 59 Lake Shore Dr W\, Dunkirk\, NY\, 14048\, United States
END:VEVENT
BEGIN:VEVENT
DTSTART;TZID=America/New_York:20230824T174500
DTEND;TZID=America/New_York:20230824T220000
DTSTAMP:20260422T150516
CREATED:20230508T202046Z
LAST-MODIFIED:20230824T010821Z
UID:10000029-1692899100-1692914400@chautauqualeadership.org
SUMMARY:CLN 30th Anniversary Celebration
DESCRIPTION:Chautauqua Leadership Network is EXCITED to Celebrate 30 Years of Growing Leaders in Chautauqua County. \nWe invite all our alumni\, members\, family and friends to join us in celebration during Dunkirk’s Summer on the Lake Concert Series. Our Concert is 80’s Night with 1980 Something/E5C4P3 – The Journey Tribute. \nFree for all ages — Food\, Beverage\, Fun. CLN hospitality tent. \nOpening Act 5:25pm\nHeadliner 6:45pm \nSpecial THANKS to supporting sponsors:\nBard Schaack\nEventz By Scott\nWilliam Burley – Century 21 Brokers
URL:https://chautauqualeadership.org/event/cln-30th-anniversary-celebration/
LOCATION:Dunkirk Memorial Park\, 59 Lake Shore Dr W\, Dunkirk\, NY\, 14048\, United States
ATTACH;FMTTYPE=image/png:https://chautauqualeadership.org/wp-content/uploads/2023/05/30Anniv-postcard-sponsors_7-9-23.png
END:VEVENT
END:VCALENDAR