

BEGIN:VCALENDAR
VERSION:2.0
PRODID:-//Chautauqua Leadership Network - ECPv6.15.17.1//NONSGML v1.0//EN
CALSCALE:GREGORIAN
METHOD:PUBLISH
X-WR-CALNAME:Chautauqua Leadership Network
X-ORIGINAL-URL:https://chautauqualeadership.org
X-WR-CALDESC:Events for Chautauqua Leadership Network
REFRESH-INTERVAL;VALUE=DURATION:PT1H
X-Robots-Tag:noindex
X-PUBLISHED-TTL:PT1H
BEGIN:VTIMEZONE
TZID:America/New_York
BEGIN:DAYLIGHT
TZOFFSETFROM:-0500
TZOFFSETTO:-0400
TZNAME:EDT
DTSTART:20230312T070000
END:DAYLIGHT
BEGIN:STANDARD
TZOFFSETFROM:-0400
TZOFFSETTO:-0500
TZNAME:EST
DTSTART:20231105T060000
END:STANDARD
BEGIN:DAYLIGHT
TZOFFSETFROM:-0500
TZOFFSETTO:-0400
TZNAME:EDT
DTSTART:20240310T070000
END:DAYLIGHT
BEGIN:STANDARD
TZOFFSETFROM:-0400
TZOFFSETTO:-0500
TZNAME:EST
DTSTART:20241103T060000
END:STANDARD
BEGIN:DAYLIGHT
TZOFFSETFROM:-0500
TZOFFSETTO:-0400
TZNAME:EDT
DTSTART:20250309T070000
END:DAYLIGHT
BEGIN:STANDARD
TZOFFSETFROM:-0400
TZOFFSETTO:-0500
TZNAME:EST
DTSTART:20251102T060000
END:STANDARD
END:VTIMEZONE
BEGIN:VEVENT
DTSTART;TZID=America/New_York:20240212T160000
DTEND;TZID=America/New_York:20240212T173000
DTSTAMP:20260422T050333
CREATED:20231224T122419Z
LAST-MODIFIED:20231224T122419Z
UID:10000042-1707753600-1707759000@chautauqualeadership.org
SUMMARY:CLN Board Meeting
DESCRIPTION:
URL:https://chautauqualeadership.org/event/cln-board-meeting/
LOCATION:NY
END:VEVENT
BEGIN:VEVENT
DTSTART;VALUE=DATE:20240216
DTEND;VALUE=DATE:20240218
DTSTAMP:20260422T050333
CREATED:20231224T113443Z
LAST-MODIFIED:20231224T114534Z
UID:10000031-1708041600-1708214399@chautauqualeadership.org
SUMMARY:Class of 2024 - Class Orientation Retreat
DESCRIPTION:February 16 @7:30am – February 17 @9pm \nThe Retreat is led by Dr. Kirk Young\, VP of Student Affairs at SUNY Jamestown Community College and owner/consultant of 221b Performance Solutions\, and Dr. Kyle Reyes\, VP of Institutional Advancement at Utah Valley University. \nYour leadership journey begins here. Attendance required. Future personal development is based on this session. If you do not attend the weekend retreat\, and/or miss a limited number of classes\, you will become illegible to participate. In such case TUITION IS NON-REFUNDABLE.
URL:https://chautauqualeadership.org/event/class-of-2024-class-retreat/
LOCATION:Chautauqua Harbor Hotel\, 10 DUNHAM AVENUE\, CELORON\, NY\, 14720\, United States
CATEGORIES:Class Year Schedule
END:VEVENT
END:VCALENDAR