

BEGIN:VCALENDAR
VERSION:2.0
PRODID:-//Chautauqua Leadership Network - ECPv6.15.17.1//NONSGML v1.0//EN
CALSCALE:GREGORIAN
METHOD:PUBLISH
X-WR-CALNAME:Chautauqua Leadership Network
X-ORIGINAL-URL:https://chautauqualeadership.org
X-WR-CALDESC:Events for Chautauqua Leadership Network
REFRESH-INTERVAL;VALUE=DURATION:PT1H
X-Robots-Tag:noindex
X-PUBLISHED-TTL:PT1H
BEGIN:VTIMEZONE
TZID:America/New_York
BEGIN:DAYLIGHT
TZOFFSETFROM:-0500
TZOFFSETTO:-0400
TZNAME:EDT
DTSTART:20230312T070000
END:DAYLIGHT
BEGIN:STANDARD
TZOFFSETFROM:-0400
TZOFFSETTO:-0500
TZNAME:EST
DTSTART:20231105T060000
END:STANDARD
BEGIN:DAYLIGHT
TZOFFSETFROM:-0500
TZOFFSETTO:-0400
TZNAME:EDT
DTSTART:20240310T070000
END:DAYLIGHT
BEGIN:STANDARD
TZOFFSETFROM:-0400
TZOFFSETTO:-0500
TZNAME:EST
DTSTART:20241103T060000
END:STANDARD
BEGIN:DAYLIGHT
TZOFFSETFROM:-0500
TZOFFSETTO:-0400
TZNAME:EDT
DTSTART:20250309T070000
END:DAYLIGHT
BEGIN:STANDARD
TZOFFSETFROM:-0400
TZOFFSETTO:-0500
TZNAME:EST
DTSTART:20251102T060000
END:STANDARD
END:VTIMEZONE
BEGIN:VEVENT
DTSTART;TZID=America/New_York:20241112T130000
DTEND;TZID=America/New_York:20241112T160000
DTSTAMP:20260422T131532
CREATED:20231224T120120Z
LAST-MODIFIED:20231224T120251Z
UID:10000040-1731416400-1731427200@chautauqualeadership.org
SUMMARY:Class of 2024 - Capstone & Graduation
DESCRIPTION:Location: TBD by Class of 2024
URL:https://chautauqualeadership.org/event/class-of-2024-capstone-graduation/
LOCATION:NY
CATEGORIES:Class Year Schedule
END:VEVENT
END:VCALENDAR